BEGIN:VCALENDAR
X-LOTUS-CHARSET:UTF-8
VERSION:2.0
PRODID:ZMS-Berlin
BEGIN:VTIMEZONE
TZID:Europe/Berlin
X-LIC-LOCATION:Europe/Berlin
BEGIN:DAYLIGHT
TZOFFSETFROM:+0100
TZOFFSETTO:+0200
TZNAME:CEST
DTSTART:19700329T020000
RRULE:FREQ=YEARLY;INTERVAL=1;BYDAY=-1SU;BYMONTH=3
END:DAYLIGHT
BEGIN:STANDARD
TZOFFSETFROM:+0200
TZOFFSETTO:+0100
TZNAME:CET
DTSTART:19701025T030000
RRULE:FREQ=YEARLY;INTERVAL=1;BYDAY=-1SU;BYMONTH=10
END:STANDARD
END:VTIMEZONE
METHOD:REQUEST
BEGIN:VEVENT
UID:ics.terminsysteme.de1754569394
DTSTAMP:20250807T142314
CLASS:PUBLIC
DTSTART;TZID=Europe/Berlin:20260317T160000
DTEND;TZID=Europe/Berlin:20260317T210000
LOCATION:Rosengartenpl. 2, 68161 Mannheim
SUMMARY:START Rhein-Neckar 2026
DESCRIPTION:\n\n---\ngenerated by https://www.terminsysteme.de/ics
BEGIN:VALARM
ACTION:DISPLAY
TRIGGER:-PT10080M
DESCRIPTION:Erinnerung
END:VALARM
END:VEVENT
END:VCALENDAR
